BEGIN:VCALENDAR
VERSION:2.0
PRODID:-//Facilitarte - ECPv6.15.14//NONSGML v1.0//EN
CALSCALE:GREGORIAN
METHOD:PUBLISH
X-WR-CALNAME:Facilitarte
X-ORIGINAL-URL:https://facilitarte.org
X-WR-CALDESC:Eventi per Facilitarte
REFRESH-INTERVAL;VALUE=DURATION:PT1H
X-Robots-Tag:noindex
X-PUBLISHED-TTL:PT1H
BEGIN:VTIMEZONE
TZID:Europe/Rome
BEGIN:DAYLIGHT
TZOFFSETFROM:+0100
TZOFFSETTO:+0200
TZNAME:CEST
DTSTART:20220327T010000
END:DAYLIGHT
BEGIN:STANDARD
TZOFFSETFROM:+0200
TZOFFSETTO:+0100
TZNAME:CET
DTSTART:20221030T010000
END:STANDARD
BEGIN:DAYLIGHT
TZOFFSETFROM:+0100
TZOFFSETTO:+0200
TZNAME:CEST
DTSTART:20230326T010000
END:DAYLIGHT
BEGIN:STANDARD
TZOFFSETFROM:+0200
TZOFFSETTO:+0100
TZNAME:CET
DTSTART:20231029T010000
END:STANDARD
BEGIN:DAYLIGHT
TZOFFSETFROM:+0100
TZOFFSETTO:+0200
TZNAME:CEST
DTSTART:20240331T010000
END:DAYLIGHT
BEGIN:STANDARD
TZOFFSETFROM:+0200
TZOFFSETTO:+0100
TZNAME:CET
DTSTART:20241027T010000
END:STANDARD
END:VTIMEZONE
BEGIN:VEVENT
DTSTART;TZID=Europe/Rome:20230304T090000
DTEND;TZID=Europe/Rome:20230305T180000
DTSTAMP:20260424T212505
CREATED:20230110T103325Z
LAST-MODIFIED:20230131T160043Z
UID:29398-1677920400-1678039200@facilitarte.org
SUMMARY:Il campo del gruppo - esplorare il collettivo
DESCRIPTION:1° modulo del Corso Facilitazione Livello Base\nI gruppi sono entità vive e complesse e in questo universo emergono dinamiche e processi che occorre comprendere. In questo modulo apprendiamo le cornici teoriche e pratiche per iniziare a orientarci nella visione che la facilitazione offre. Mettiamo le basi per un gruppo coeso e attento alle persone. \nLa partecipazione ai singoli moduli è principalmente riservata ai corsisti che svolgono l’intero corso annuale. La partecipazione sarà aperta anche alle persone esterne qualora ci fossero posti liberi. Se sei interessat3\, contattaci. \n 
URL:https://facilitarte.org/event/il-campo-del-gruppo-esplorare-il-collettivo/
LOCATION:Ciricea\, Via Villa di Piteccio\, n°7\, Pistoia\, Italia
ATTACH;FMTTYPE=image/jpeg:https://facilitarte.org/wp-content/uploads/2023/01/IMG20220508122848-scaled.jpg
END:VEVENT
END:VCALENDAR