BEGIN:VCALENDAR
VERSION:2.0
PRODID:-//Facilitarte - ECPv6.15.14//NONSGML v1.0//EN
CALSCALE:GREGORIAN
METHOD:PUBLISH
X-WR-CALNAME:Facilitarte
X-ORIGINAL-URL:https://facilitarte.org
X-WR-CALDESC:Eventi per Facilitarte
REFRESH-INTERVAL;VALUE=DURATION:PT1H
X-Robots-Tag:noindex
X-PUBLISHED-TTL:PT1H
BEGIN:VTIMEZONE
TZID:Europe/Rome
BEGIN:DAYLIGHT
TZOFFSETFROM:+0100
TZOFFSETTO:+0200
TZNAME:CEST
DTSTART:20240331T010000
END:DAYLIGHT
BEGIN:STANDARD
TZOFFSETFROM:+0200
TZOFFSETTO:+0100
TZNAME:CET
DTSTART:20241027T010000
END:STANDARD
BEGIN:DAYLIGHT
TZOFFSETFROM:+0100
TZOFFSETTO:+0200
TZNAME:CEST
DTSTART:20250330T010000
END:DAYLIGHT
BEGIN:STANDARD
TZOFFSETFROM:+0200
TZOFFSETTO:+0100
TZNAME:CET
DTSTART:20251026T010000
END:STANDARD
BEGIN:DAYLIGHT
TZOFFSETFROM:+0100
TZOFFSETTO:+0200
TZNAME:CEST
DTSTART:20260329T010000
END:DAYLIGHT
BEGIN:STANDARD
TZOFFSETFROM:+0200
TZOFFSETTO:+0100
TZNAME:CET
DTSTART:20261025T010000
END:STANDARD
END:VTIMEZONE
BEGIN:VEVENT
DTSTART;TZID=Europe/Rome:20250301T090000
DTEND;TZID=Europe/Rome:20250302T180000
DTSTAMP:20260421T103851
CREATED:20241119T104740Z
LAST-MODIFIED:20241119T104740Z
UID:29793-1740819600-1740938400@facilitarte.org
SUMMARY:"Al centro del cerchio" - lo ZEGG FORUM
DESCRIPTION:AL CENTRO DEL CERCHIO\nL’opportunità di sperimentare lo ZEGG FORUM\nLo ZEGG FORUM\, sviluppato nella comunità intenzionale ed ecovillaggio tedesco ZEGG\, è uno strumento che crea e sostiene trasparenza e fiducia nei processi personali\, relazionali e collettivi. Si tratta di un supporto che accompagna ogni persona a scoprire il proprio potenziale e quello del gruppo. \nIn questo laboratorio sperimentiamo la potenza trasformativa della possibilità di esprimersi con autenticità e trasparenza\, condividendo con il gruppo e allenando uno sguardo compassionevole ed empatico che accoglie la diversità e unicità di ogni persona e ogni ruolo. \nGli obiettivi dello ZEGG FORUM sono tanti: \n\nrendere visibile l’essenza\,\nsostenere l’autenticità e il processo di disidentificazione dalle narrazioni ed emozioni interne\,\nsperimentare nuovi modi di stare ed essere nel collettivo\,\nmostrare l’interdipendenza tra il livello personale e quello collettivo\,\ngenerare la coesione all’interno del gruppo e arricchire la percezione di sé\, grazie ai rispecchiamenti.\n\nÈ uno strumento per indagare sè stess\, un rituale di sanazione collettiva. \nIl laboratorio si terrà presso l’ecovillaggio Progetto Gaia Terra (Udine) l’ 1-2 marzo 2025 dalle ore 9.00 di sabato alle ore 17.30 di domenica. \n \nFacilita: Efstathios Mavridis detto “Delfino“ docente del corso triennale di facilitazione\, facilitatore ZEGG FORUM e facilitatore professionale IIFAC-E \n  \n  \n \nCo-facilita: Francesca Pacha Gori\, facilitatrice di processi di gruppo \n  \n  \nPer info e iscrizioni scrivere a info@facilitarte.org \n 
URL:https://facilitarte.org/event/al-centro-del-cerchio-lo-zegg-forum/
LOCATION:Progetto Gaia Terra\, Via Francesco petrarca 45\, Rivignano Teor (Udine)\, Italy
CATEGORIES:Corsi extra
ATTACH;FMTTYPE=image/jpeg:https://facilitarte.org/wp-content/uploads/2024/11/ZEGG-FORUM-MARZO-2025-copertina.jpg
END:VEVENT
END:VCALENDAR